BEGIN:VCALENDAR
VERSION:2.0
PRODID:-//Cvent//EN
BEGIN:VEVENT
DTSTART:20230610T160000Z
DTEND:20230610T190000Z
SUMMARY;ENCODING=UTF-8:AARP CA: Drive Through Shred & E-Waste Event, San Jose 6.10.23
LOCATION;ENCODING=UTF-8:Santa Clara County Office of Social Services - Parking Lot\, 333 W. Julian Street\, San Jose\, CA 95110
DESCRIPTION:Drive-Through Shred & E-Waste Event\nDid you know that every two seconds someone’s identity is stolen? Protect yourself from frauds and scams by making sure documents that you no longer need are properly shredded and disposed of!\nJoin AARP Fraud Watch Network, AARP California, the County of Santa Clara Adult Protective Services and the Financial Abuse Specialist Team (F.A.S.T) for a FREE drive-through shred event as we work together to combat fraud and identity theft in our community.\nAt our shred event we will help you dispose of unwanted confidential documents in a FREE, safe and secure manner. It only takes a few minutes! All you have to do is (1) register in advance and (2) on June 10th arrive to the Santa Clara County Office of Social Services parking lot using the W. Julian Street entrance, stay left, pop open your trunk, and we will help you shred your documents.\nAARP and Santa Clara County’s Adult Protective Services staff and volunteers will also be onsite sharing information on World Elder Abuse Awareness Day 2023 (6/15) and how you can protect yourself and loved ones from frauds and scams. \nShredding trucks will stay onsite for the time scheduled or until they reach capacity. Registration is required in advance. This service is only for personal use, and not for businesses.\n
X-ALT-DESC;FMTTYPE=text/html:<div class="ag87-crtemvc-hsbk"><div class="css-vsf5of"><p style="text-align:center;" class="carina-rte-public-DraftStyleDefault-block"><span style="font-weight: bold;"><span style="text-decoration: underline;">Drive-Through Shred &amp; E-Waste Event</span></span></p><p class="carina-rte-public-DraftStyleDefault-block"><span style="font-style: italic;">Did you know that every two seconds someone’s identity is stolen? Protect yourself from frauds and scams by making sure documents that you no longer need are properly shredded and disposed of!</span></p><p class="carina-rte-public-DraftStyleDefault-block">Join <a href="https://www.aarp.org/money/scams-fraud/about-fraud-watch-network/" target="_self">AARP Fraud Watch Network</a>, AARP California, the County of Santa Clara Adult Protective Services and the Financial Abuse Specialist Team (F.A.S.T) for a <span style="font-weight: bold;">FREE</span> drive-through shred event as we <span style="color: rgb(42,42,42);">work together to combat fraud and identity theft in our community.</span></p><p class="carina-rte-public-DraftStyleDefault-block">At our shred event we will help you dispose <span style="color: rgb(26,32,38);">of unwanted confidential documents in a <span style="font-weight: bold;">FREE</span>, safe and secure manner. I</span>t only takes a few minutes! <span style="color: rgb(26,32,38);">All you have to do is (1) register in advance and (2) on June 10th arrive to the Santa Clara County Office of Social Services parking lot using the W. Julian Street entrance, stay left, </span>pop open your trunk, and we will help you shred your documents.</p><p class="carina-rte-public-DraftStyleDefault-block"><span style="color: black;">AARP and Santa Clara County’s Adult Protective Services staff and volunteers will also be onsite sharing information on World Elder Abuse Awareness Day 2023 (6/15) and how you can protect yourself and loved ones from frauds and scams. </span></p><p class="carina-rte-public-DraftStyleDefault-block"><span style="color: rgb(42,42,42);"><span style="font-weight: bold;"><span style="font-style: italic;">Shredding trucks will stay onsite for the time scheduled or until they reach capacity. Registration is required in advance. This service is only for personal use, and </span></span><span style="font-weight: bold;"><span style="font-style: italic;"><span style="text-decoration: underline;">not for businesses</span></span></span><span style="font-weight: bold;"><span style="font-style: italic;">. </span></span></span><br>&nbsp;</p></div></div>
PRIORITY:5
BEGIN:VALARM
TRIGGER:-PT15M
ACTION:DISPLAY
END:VALARM
END:VEVENT
END:VCALENDAR